BEGIN:VCALENDAR
VERSION:2.0
PRODID:-//Connected University - ECPv6.0.3.1//NONSGML v1.0//EN
CALSCALE:GREGORIAN
METHOD:PUBLISH
X-WR-CALNAME:Connected University
X-ORIGINAL-URL:https://connecteduniversity-mc.org
X-WR-CALDESC:Events for Connected University
REFRESH-INTERVAL;VALUE=DURATION:PT1H
X-Robots-Tag:noindex
X-PUBLISHED-TTL:PT1H
BEGIN:VTIMEZONE
TZID:UTC
BEGIN:STANDARD
TZOFFSETFROM:+0000
TZOFFSETTO:+0000
TZNAME:UTC
DTSTART:20230101T000000
END:STANDARD
END:VTIMEZONE
BEGIN:VEVENT
DTSTART;TZID=UTC:20230203T150000
DTEND;TZID=UTC:20230203T170000
DTSTAMP:20260425T163439
CREATED:20230113T190627Z
LAST-MODIFIED:20230113T190656Z
UID:3493-1675436400-1675443600@connecteduniversity-mc.org
SUMMARY:Spring Open House
DESCRIPTION:Join our informational session to learn more about the campus and student life. You’ll hear from faculty and students about their Connected U experience.  \nAsk Admissions regarding important information about the application and financial aid processes. \nSee what it’s like to be a CU student while taking you on tour of our beautiful campus.
URL:https://connecteduniversity-mc.org/event/spring-open-house/
LOCATION:Zook Hall\, 11721 Telegraph Rd\, Santa Fe Springs\, CA\, 90670\, United States
ATTACH;FMTTYPE=image/png:https://connecteduniversity-mc.org/wp-content/uploads/sites/6/2023/01/OpenHouse_cropped.png
ORGANIZER;CN="Gary%20Jones":MAILTO:halpes@example.com
END:VEVENT
END:VCALENDAR